BEGIN:VCALENDAR
VERSION:2.0
PRODID:-//Georgia International Convention Center - ECPv6.8.2//NONSGML v1.0//EN
CALSCALE:GREGORIAN
METHOD:PUBLISH
X-ORIGINAL-URL:https://www.gicc.com
X-WR-CALDESC:Events for Georgia International Convention Center
REFRESH-INTERVAL;VALUE=DURATION:PT1H
X-Robots-Tag:noindex
X-PUBLISHED-TTL:PT1H
BEGIN:VTIMEZONE
TZID:America/New_York
BEGIN:DAYLIGHT
TZOFFSETFROM:-0500
TZOFFSETTO:-0400
TZNAME:EDT
DTSTART:20200308T070000
END:DAYLIGHT
BEGIN:STANDARD
TZOFFSETFROM:-0400
TZOFFSETTO:-0500
TZNAME:EST
DTSTART:20201101T060000
END:STANDARD
END:VTIMEZONE
BEGIN:VEVENT
DTSTART;TZID=America/New_York:20200310T090000
DTEND;TZID=America/New_York:20200310T150000
DTSTAMP:20260422T120230
CREATED:20200221T203125Z
LAST-MODIFIED:20200221T203125Z
UID:3249-1583830800-1583852400@www.gicc.com
SUMMARY:ATLNext Industry Day
DESCRIPTION:
URL:https://www.gicc.com/event/atlnext-industry-day/
END:VEVENT
BEGIN:VEVENT
DTSTART;TZID=America/New_York:20200312T080000
DTEND;TZID=America/New_York:20200315T170000
DTSTAMP:20260422T120230
CREATED:20191101T171641Z
LAST-MODIFIED:20191101T171641Z
UID:3243-1584000000-1584291600@www.gicc.com
SUMMARY:Atlanta Pet Fair & Conference
DESCRIPTION:
URL:https://www.gicc.com/event/atlanta-pet-fair-conference/
END:VEVENT
BEGIN:VEVENT
DTSTART;TZID=America/New_York:20200429T100000
DTEND;TZID=America/New_York:20200429T140000
DTSTAMP:20260422T120230
CREATED:20200421T212840Z
LAST-MODIFIED:20200421T212840Z
UID:3253-1588154400-1588168800@www.gicc.com
SUMMARY:Proof of the Pudding Pop-up Stock-up Store
DESCRIPTION:POTP_PopupStockup_OrderForm
URL:https://www.gicc.com/event/proof-pudding-pop-stock-store/
ATTACH;FMTTYPE=image/png:https://www.gicc.com/wp-content/uploads/2020/04/proof-of-the-pudding-squarelogo-1432188526619.png
END:VEVENT
BEGIN:VEVENT
DTSTART;TZID=America/New_York:20200502T100000
DTEND;TZID=America/New_York:20200502T140000
DTSTAMP:20260422T120230
CREATED:20200421T215808Z
LAST-MODIFIED:20200421T215808Z
UID:3254-1588413600-1588428000@www.gicc.com
SUMMARY:Proof of the Pudding Pop-up Stock-up Store
DESCRIPTION:PopUp Store Menu
URL:https://www.gicc.com/event/proof-pudding-pop-stock-store-2/
ATTACH;FMTTYPE=image/png:https://www.gicc.com/wp-content/uploads/2020/04/proof-of-the-pudding-squarelogo-1432188526619.png
END:VEVENT
BEGIN:VEVENT
DTSTART;TZID=America/New_York:20200519T100000
DTEND;TZID=America/New_York:20200519T140000
DTSTAMP:20260422T120230
CREATED:20200519T165349Z
LAST-MODIFIED:20200519T165349Z
UID:3255-1589882400-1589896800@www.gicc.com
SUMMARY:COVID-19 Testing
DESCRIPTION:
URL:https://www.gicc.com/event/covid-19-testing/
ATTACH;FMTTYPE=image/jpeg:https://www.gicc.com/wp-content/uploads/2020/05/COVID-Testing.jpg
END:VEVENT
BEGIN:VEVENT
DTSTART;TZID=America/New_York:20200602T100000
DTEND;TZID=America/New_York:20200602T140000
DTSTAMP:20260422T120230
CREATED:20200529T213142Z
LAST-MODIFIED:20200529T213142Z
UID:3256-1591092000-1591106400@www.gicc.com
SUMMARY:COVID-19 Testing
DESCRIPTION:
URL:https://www.gicc.com/event/covid-19-testing-2/
ATTACH;FMTTYPE=image/jpeg:https://www.gicc.com/wp-content/uploads/2020/05/COVID-Testing-1.jpg
END:VEVENT
BEGIN:VEVENT
DTSTART;TZID=America/New_York:20200609T100000
DTEND;TZID=America/New_York:20200609T140000
DTSTAMP:20260422T120230
CREATED:20200529T213233Z
LAST-MODIFIED:20200529T213233Z
UID:3257-1591696800-1591711200@www.gicc.com
SUMMARY:COVID-19 Testing
DESCRIPTION:
URL:https://www.gicc.com/event/covid-19-testing-3/
ATTACH;FMTTYPE=image/jpeg:https://www.gicc.com/wp-content/uploads/2020/05/New-COVID-Image.jpg
END:VEVENT
BEGIN:VEVENT
DTSTART;TZID=America/New_York:20200612T090000
DTEND;TZID=America/New_York:20200614T200000
DTSTAMP:20260422T120230
CREATED:20200610T214835Z
LAST-MODIFIED:20200610T214835Z
UID:3261-1591952400-1592164800@www.gicc.com
SUMMARY:Atlanta Invitational Tournament-D1spects Super Regional
DESCRIPTION:
URL:https://www.gicc.com/event/atlanta-invitational-tournament-d1spects-super-regional/
ATTACH;FMTTYPE=image/png:https://www.gicc.com/wp-content/uploads/2020/06/d1logo_color.png
END:VEVENT
BEGIN:VEVENT
DTSTART;TZID=America/New_York:20200616T100000
DTEND;TZID=America/New_York:20200616T140000
DTSTAMP:20260422T120230
CREATED:20200529T213315Z
LAST-MODIFIED:20200529T213315Z
UID:3258-1592301600-1592316000@www.gicc.com
SUMMARY:COVID-19 Testing
DESCRIPTION:
URL:https://www.gicc.com/event/covid-19-testing-4/
ATTACH;FMTTYPE=image/jpeg:https://www.gicc.com/wp-content/uploads/2020/05/New-COVID-Image.jpg
END:VEVENT
BEGIN:VEVENT
DTSTART;TZID=America/New_York:20200619T080000
DTEND;TZID=America/New_York:20200621T200000
DTSTAMP:20260422T120230
CREATED:20200619T171916Z
LAST-MODIFIED:20200619T171916Z
UID:3262-1592553600-1592769600@www.gicc.com
SUMMARY:National Hoop Series Session #2
DESCRIPTION:Public Event
URL:https://www.gicc.com/event/atlanta-invitational-tournament-d1spects-super-regional-2/
ATTACH;FMTTYPE=image/png:https://www.gicc.com/wp-content/uploads/2020/06/d1logo_color.png
END:VEVENT
BEGIN:VEVENT
DTSTART;TZID=America/New_York:20200623T100000
DTEND;TZID=America/New_York:20200623T140000
DTSTAMP:20260422T120230
CREATED:20200529T213351Z
LAST-MODIFIED:20200529T213351Z
UID:3259-1592906400-1592920800@www.gicc.com
SUMMARY:COVID-19 Testing
DESCRIPTION:
URL:https://www.gicc.com/event/covid-19-testing-5/
ATTACH;FMTTYPE=image/jpeg:https://www.gicc.com/wp-content/uploads/2020/05/New-COVID-Image.jpg
END:VEVENT
BEGIN:VEVENT
DTSTART;TZID=America/New_York:20200626T090000
DTEND;TZID=America/New_York:20200628T200000
DTSTAMP:20260422T120230
CREATED:20200619T172140Z
LAST-MODIFIED:20200619T172140Z
UID:3263-1593162000-1593374400@www.gicc.com
SUMMARY:Hoop Series Championship
DESCRIPTION:Public Event
URL:https://www.gicc.com/event/atlanta-invitational-tournament-d1spects-super-regional-3/
ATTACH;FMTTYPE=image/png:https://www.gicc.com/wp-content/uploads/2020/06/d1logo_color.png
END:VEVENT
BEGIN:VEVENT
DTSTART;TZID=America/New_York:20200630T100000
DTEND;TZID=America/New_York:20200630T140000
DTSTAMP:20260422T120230
CREATED:20200529T213425Z
LAST-MODIFIED:20200529T213425Z
UID:3260-1593511200-1593525600@www.gicc.com
SUMMARY:COVID-19 Testing
DESCRIPTION:
URL:https://www.gicc.com/event/covid-19-testing-6/
ATTACH;FMTTYPE=image/jpeg:https://www.gicc.com/wp-content/uploads/2020/05/COVID-Testing-1.jpg
END:VEVENT
BEGIN:VEVENT
DTSTART;TZID=America/New_York:20200707T100000
DTEND;TZID=America/New_York:20200707T140000
DTSTAMP:20260422T120230
CREATED:20200707T141046Z
LAST-MODIFIED:20200707T141046Z
UID:3264-1594116000-1594130400@www.gicc.com
SUMMARY:COVID-19 Testing
DESCRIPTION:Georgia International Convention Center Parking Lot
URL:https://www.gicc.com/event/covid-19-testing-7/
END:VEVENT
BEGIN:VEVENT
DTSTART;TZID=America/New_York:20200710T080000
DTEND;TZID=America/New_York:20200710T170000
DTSTAMP:20260422T120230
CREATED:20200710T191103Z
LAST-MODIFIED:20200710T191103Z
UID:3267-1594368000-1594400400@www.gicc.com
SUMMARY:COVID-19 Testing
DESCRIPTION:Georgia International Convention Center Parking Lot
URL:https://www.gicc.com/event/covid-19-testing-10/
END:VEVENT
BEGIN:VEVENT
DTSTART;TZID=America/New_York:20200714T100000
DTEND;TZID=America/New_York:20200714T140000
DTSTAMP:20260422T120230
CREATED:20200710T190907Z
LAST-MODIFIED:20200710T190907Z
UID:3265-1594720800-1594735200@www.gicc.com
SUMMARY:COVID-19 Testing
DESCRIPTION:Georgia International Convention Center Parking Lot
URL:https://www.gicc.com/event/covid-19-testing-8/
END:VEVENT
BEGIN:VEVENT
DTSTART;TZID=America/New_York:20200718T063000
DTEND;TZID=America/New_York:20200718T120000
DTSTAMP:20260422T120230
CREATED:20200710T194546Z
LAST-MODIFIED:20200710T194546Z
UID:3269-1595053800-1595073600@www.gicc.com
SUMMARY:Atlanta Track Club 2020 Publix Summer Series
DESCRIPTION:Georgia International Convention Center Parking Lot
URL:https://www.gicc.com/event/atlanta-track-club-2020-publix-summer-series/
END:VEVENT
BEGIN:VEVENT
DTSTART;TZID=America/New_York:20200721T100000
DTEND;TZID=America/New_York:20200721T140000
DTSTAMP:20260422T120230
CREATED:20200710T191031Z
LAST-MODIFIED:20200710T191031Z
UID:3266-1595325600-1595340000@www.gicc.com
SUMMARY:COVID-19 Testing-Cancelled
DESCRIPTION:Cancelled
URL:https://www.gicc.com/event/covid-19-testing-9/
END:VEVENT
BEGIN:VEVENT
DTSTART;TZID=America/New_York:20200725T193000
DTEND;TZID=America/New_York:20200725T233000
DTSTAMP:20260422T120230
CREATED:20200710T193912Z
LAST-MODIFIED:20200710T193912Z
UID:3268-1595705400-1595719800@www.gicc.com
SUMMARY:Jokes and Jams 2020
DESCRIPTION:Georgia International Convention Center Parking Lot E
URL:https://www.gicc.com/event/jokes-jams-2020/
ATTACH;FMTTYPE=image/jpeg:https://www.gicc.com/wp-content/uploads/2020/07/Your-Drive-in-Concerts-tickets-more-safe-cool-events-this-weekend-002.jpeg
END:VEVENT
BEGIN:VEVENT
DTSTART;TZID=America/New_York:20200728T080000
DTEND;TZID=America/New_York:20200801T200000
DTSTAMP:20260422T120230
CREATED:20200724T215632Z
LAST-MODIFIED:20200724T215632Z
UID:3271-1595923200-1596312000@www.gicc.com
SUMMARY:2020 United States Basketball Association National Championship
DESCRIPTION:
URL:https://www.gicc.com/event/2020-united-states-basketball-association-national-championship/
ATTACH;FMTTYPE=image/png:https://www.gicc.com/wp-content/uploads/2020/07/Annotation-2020-07-24-174622.png
END:VEVENT
BEGIN:VEVENT
DTSTART;TZID=America/New_York:20200728T100000
DTEND;TZID=America/New_York:20200728T140000
DTSTAMP:20260422T120230
CREATED:20200724T164943Z
LAST-MODIFIED:20200724T164943Z
UID:3270-1595930400-1595944800@www.gicc.com
SUMMARY:COVID-19 Testing
DESCRIPTION:
URL:https://www.gicc.com/event/covid-19-testing-11/
END:VEVENT
BEGIN:VEVENT
DTSTART;TZID=America/New_York:20200802T100000
DTEND;TZID=America/New_York:20200802T220000
DTSTAMP:20260422T120230
CREATED:20191121T190329Z
LAST-MODIFIED:20191121T190329Z
UID:3246-1596362400-1596405600@www.gicc.com
SUMMARY:The Black Beauty Expo
DESCRIPTION:Public
URL:https://www.gicc.com/event/black-beauty-expo/
ATTACH;FMTTYPE=image/jpeg:https://www.gicc.com/wp-content/uploads/2019/11/blackbeautyexpoheader2-scaled.jpg
END:VEVENT
BEGIN:VEVENT
DTSTART;TZID=America/New_York:20200815T180000
DTEND;TZID=America/New_York:20200815T220000
DTSTAMP:20260422T120230
CREATED:20200813T133528Z
LAST-MODIFIED:20200813T133528Z
UID:3272-1597514400-1597528800@www.gicc.com
SUMMARY:Parking Lot Concert
DESCRIPTION:Please scan QR Code for online menu. \n \nParking Lot E
URL:https://www.gicc.com/event/parking-lot-concert/
ATTACH;FMTTYPE=image/jpeg:https://www.gicc.com/wp-content/uploads/2020/08/Parking-Lot-Concert-Image.jpg
END:VEVENT
BEGIN:VEVENT
DTSTART;TZID=America/New_York:20200822T180000
DTEND;TZID=America/New_York:20200822T220000
DTSTAMP:20260422T120230
CREATED:20200819T221823Z
LAST-MODIFIED:20200819T221823Z
UID:3274-1598119200-1598133600@www.gicc.com
SUMMARY:The Drive-In Concert Series
DESCRIPTION:Parking Lot E
URL:https://www.gicc.com/event/drive-concert-series/
ATTACH;FMTTYPE=application/pdf:https://www.gicc.com/wp-content/uploads/2020/08/Concert-8.22.pdf
END:VEVENT
BEGIN:VEVENT
DTSTART;TZID=America/New_York:20200823T180000
DTEND;TZID=America/New_York:20200823T220000
DTSTAMP:20260422T120230
CREATED:20200819T222339Z
LAST-MODIFIED:20200819T222339Z
UID:3275-1598205600-1598220000@www.gicc.com
SUMMARY:The Parking Lot Concert Series
DESCRIPTION:Parking Lot E
URL:https://www.gicc.com/event/parking-lot-concert-series/
ATTACH;FMTTYPE=image/jpeg:https://www.gicc.com/wp-content/uploads/2020/08/Concert-8.23.jpg
END:VEVENT
BEGIN:VEVENT
DTSTART;TZID=America/New_York:20200825T130000
DTEND;TZID=America/New_York:20200825T180000
DTSTAMP:20260422T120230
CREATED:20200813T134721Z
LAST-MODIFIED:20200813T134721Z
UID:3273-1598360400-1598378400@www.gicc.com
SUMMARY:Blood Drive
DESCRIPTION:
URL:https://www.gicc.com/event/blood-drive/
ATTACH;FMTTYPE=application/pdf:https://www.gicc.com/wp-content/uploads/2020/08/GICC_Blood-Drive-3.pdf
END:VEVENT
BEGIN:VEVENT
DTSTART;TZID=America/New_York:20200829T180000
DTEND;TZID=America/New_York:20200829T220000
DTSTAMP:20260422T120230
CREATED:20200820T131509Z
LAST-MODIFIED:20200820T131509Z
UID:3276-1598724000-1598738400@www.gicc.com
SUMMARY:Ms Full Figured GA Pageant
DESCRIPTION:
URL:https://www.gicc.com/event/ms-full-figured-ga-pageant/
ATTACH;FMTTYPE=image/jpeg:https://www.gicc.com/wp-content/uploads/2020/08/8.29.20.jpg
END:VEVENT
BEGIN:VEVENT
DTSTART;TZID=America/New_York:20200829T180000
DTEND;TZID=America/New_York:20200829T220000
DTSTAMP:20260422T120230
CREATED:20200826T144801Z
LAST-MODIFIED:20200826T144801Z
UID:3278-1598724000-1598738400@www.gicc.com
SUMMARY:The Parking Lot Concert Series-POSTPONED
DESCRIPTION:Parking Lot E
URL:https://www.gicc.com/event/parking-lot-concert-series-2/
ATTACH;FMTTYPE=application/pdf:https://www.gicc.com/wp-content/uploads/2020/08/8.29.20-Parking-Lot-2-1.pdf
END:VEVENT
BEGIN:VEVENT
DTSTART;TZID=America/New_York:20200905T180000
DTEND;TZID=America/New_York:20200905T220000
DTSTAMP:20260422T120230
CREATED:20200826T142419Z
LAST-MODIFIED:20200826T142419Z
UID:3277-1599328800-1599343200@www.gicc.com
SUMMARY:The Drive-In Concert Series
DESCRIPTION:Parking Lot E
URL:https://www.gicc.com/event/drive-concert-series-2/
ATTACH;FMTTYPE=image/jpeg:https://www.gicc.com/wp-content/uploads/2020/08/9.5.20-1.jpg
END:VEVENT
BEGIN:VEVENT
DTSTART;TZID=America/New_York:20200912T180000
DTEND;TZID=America/New_York:20200912T220000
DTSTAMP:20260422T120230
CREATED:20200907T173952Z
LAST-MODIFIED:20200907T173952Z
UID:3279-1599933600-1599948000@www.gicc.com
SUMMARY:The Parking Lot Concert Series
DESCRIPTION:Parking Lot E
URL:https://www.gicc.com/event/parking-lot-concert-series-3/
ATTACH;FMTTYPE=image/jpeg:https://www.gicc.com/wp-content/uploads/2020/09/9.12.20-1.jpg
END:VEVENT
END:VCALENDAR