BEGIN:VCALENDAR
VERSION:2.0
PRODID:-//Georgia International Convention Center - ECPv6.8.2//NONSGML v1.0//EN
CALSCALE:GREGORIAN
METHOD:PUBLISH
X-WR-CALNAME:Georgia International Convention Center
X-ORIGINAL-URL:https://www.gicc.com
X-WR-CALDESC:Events for Georgia International Convention Center
REFRESH-INTERVAL;VALUE=DURATION:PT1H
X-Robots-Tag:noindex
X-PUBLISHED-TTL:PT1H
BEGIN:VTIMEZONE
TZID:America/New_York
BEGIN:DAYLIGHT
TZOFFSETFROM:-0500
TZOFFSETTO:-0400
TZNAME:EDT
DTSTART:20260308T070000
END:DAYLIGHT
BEGIN:STANDARD
TZOFFSETFROM:-0400
TZOFFSETTO:-0500
TZNAME:EST
DTSTART:20261101T060000
END:STANDARD
END:VTIMEZONE
BEGIN:VEVENT
DTSTART;VALUE=DATE:20260419
DTEND;VALUE=DATE:20260420
DTSTAMP:20260419T085351
CREATED:20260318T191833Z
LAST-MODIFIED:20260318T191833Z
UID:3901-1776556800-1776643199@www.gicc.com
SUMMARY:MIAMI ASSASSINS -VS- ATLANTA ATTACK
DESCRIPTION:Our event features 24\, 3-minute rounds of non-stop action. Team Boxing League is a team-based league featuring 16 fighters of both male and female boxers\, covering all weight classes. Each fighter competes in one round\, and the score is tallied up between the two teams\, claiming one of them the winner at the end of 24 rounds. \n 
URL:https://www.gicc.com/event/miami-assassins-vs-atlanta-attack/
LOCATION:GA
END:VEVENT
BEGIN:VEVENT
DTSTART;VALUE=DATE:20260419
DTEND;VALUE=DATE:20260420
DTSTAMP:20260419T085351
CREATED:20260210T203624Z
LAST-MODIFIED:20260210T203624Z
UID:3842-1776556800-1776643199@www.gicc.com
SUMMARY:
DESCRIPTION:Black Boy Art Show is a national exhibition experience celebrating Black male artists across mediums—painting\, photography\, digital\, and performance. Founded by Joshua Love\, we travel city-to-city building spaces where art\, culture\, and community collide.
URL:https://www.gicc.com/event/3842/
LOCATION:GA
END:VEVENT
BEGIN:VEVENT
DTSTART;TZID=America/New_York:20260419T150000
DTEND;TZID=America/New_York:20260419T210000
DTSTAMP:20260419T085351
CREATED:20260316T155021Z
LAST-MODIFIED:20260417T201557Z
UID:3891-1776610800-1776632400@www.gicc.com
SUMMARY:BLACK BOY ART SHOW
DESCRIPTION:Black Boy Art Show is a national exhibition experience celebrating Black male artists across mediums—painting\, photography\, digital\, and performance. Founded by Joshua Love\, we travel city-to-city building spaces where art\, culture\, and community collide.
URL:https://www.gicc.com/event/black-boy-art-show/
LOCATION:GICC\, 2000 Convention Center Concourse\, College Park\, GA\, 30337\, United States
END:VEVENT
END:VCALENDAR