BEGIN:VCALENDAR
VERSION:2.0
PRODID:-//Georgia International Convention Center - ECPv6.8.2//NONSGML v1.0//EN
CALSCALE:GREGORIAN
METHOD:PUBLISH
X-ORIGINAL-URL:https://www.gicc.com
X-WR-CALDESC:Events for Georgia International Convention Center
REFRESH-INTERVAL;VALUE=DURATION:PT1H
X-Robots-Tag:noindex
X-PUBLISHED-TTL:PT1H
BEGIN:VTIMEZONE
TZID:America/New_York
BEGIN:DAYLIGHT
TZOFFSETFROM:-0500
TZOFFSETTO:-0400
TZNAME:EDT
DTSTART:20260308T070000
END:DAYLIGHT
BEGIN:STANDARD
TZOFFSETFROM:-0400
TZOFFSETTO:-0500
TZNAME:EST
DTSTART:20261101T060000
END:STANDARD
END:VTIMEZONE
BEGIN:VEVENT
DTSTART;VALUE=DATE:20260308
DTEND;VALUE=DATE:20260309
DTSTAMP:20260419T085808
CREATED:20260226T203623Z
LAST-MODIFIED:20260226T203623Z
UID:3861-1772928000-1773014399@www.gicc.com
SUMMARY:ATLANTA NATIONAL COLLEGE FAIR
DESCRIPTION:The National Association for College Admission Counseling (NACAC)\, founded in 1937\, is an organization of more than 28\,000 professionals from around the world dedicated to serving students as they make choices about pursuing postsecondary education.
URL:https://www.gicc.com/event/atlanta-national-college-fair/
LOCATION:GA
END:VEVENT
END:VCALENDAR