BEGIN:VCALENDAR
VERSION:2.0
PRODID:-//Georgia International Convention Center - ECPv6.8.2//NONSGML v1.0//EN
CALSCALE:GREGORIAN
METHOD:PUBLISH
X-WR-CALNAME:Georgia International Convention Center
X-ORIGINAL-URL:https://www.gicc.com
X-WR-CALDESC:Events for Georgia International Convention Center
REFRESH-INTERVAL;VALUE=DURATION:PT1H
X-Robots-Tag:noindex
X-PUBLISHED-TTL:PT1H
BEGIN:VTIMEZONE
TZID:America/New_York
BEGIN:DAYLIGHT
TZOFFSETFROM:-0500
TZOFFSETTO:-0400
TZNAME:EDT
DTSTART:20200308T070000
END:DAYLIGHT
BEGIN:STANDARD
TZOFFSETFROM:-0400
TZOFFSETTO:-0500
TZNAME:EST
DTSTART:20201101T060000
END:STANDARD
END:VTIMEZONE
BEGIN:VEVENT
DTSTART;TZID=America/New_York:20201019T080000
DTEND;TZID=America/New_York:20201024T180000
DTSTAMP:20260422T044204
CREATED:20200929T202525Z
LAST-MODIFIED:20200929T202525Z
UID:3284-1603094400-1603562400@www.gicc.com
SUMMARY:Fulton County Early Voting
DESCRIPTION:Exhibit Hall D
URL:https://www.gicc.com/event/fulton-county-early-voting-3/
LOCATION:GA
END:VEVENT
BEGIN:VEVENT
DTSTART;TZID=America/New_York:20201024T180000
DTEND;TZID=America/New_York:20201024T220000
DTSTAMP:20260422T044204
CREATED:20201021T163416Z
LAST-MODIFIED:20201021T163416Z
UID:3291-1603562400-1603576800@www.gicc.com
SUMMARY:The Parking Lot Concert Series
DESCRIPTION:Parking Lot E
URL:https://www.gicc.com/event/parking-lot-concert-series-6/
LOCATION:GA
ATTACH;FMTTYPE=image/jpeg:https://www.gicc.com/wp-content/uploads/2020/10/10.24.20-2.jpg
END:VEVENT
END:VCALENDAR